BEGIN:VCALENDAR
VERSION:2.0
PRODID:-//Sound Merchandise Entertainment - ECPv6.15.20//NONSGML v1.0//EN
CALSCALE:GREGORIAN
METHOD:PUBLISH
X-WR-CALNAME:Sound Merchandise Entertainment
X-ORIGINAL-URL:https://soundmerchandise.com
X-WR-CALDESC:Events for Sound Merchandise Entertainment
REFRESH-INTERVAL;VALUE=DURATION:PT1H
X-Robots-Tag:noindex
X-PUBLISHED-TTL:PT1H
BEGIN:VTIMEZONE
TZID:UTC
BEGIN:STANDARD
TZOFFSETFROM:+0000
TZOFFSETTO:+0000
TZNAME:UTC
DTSTART:20230101T000000
END:STANDARD
END:VTIMEZONE
BEGIN:VEVENT
DTSTART;TZID=UTC:20250112T190000
DTEND;TZID=UTC:20250112T233000
DTSTAMP:20260423T143002
CREATED:20241113T234344Z
LAST-MODIFIED:20241209T144310Z
UID:10000315-1736708400-1736724600@soundmerchandise.com
SUMMARY:Beast Mode Trio feat. Grammy-Winning Artists\, Jonathan Joseph\, Tal Cohen\, Armando Gola
DESCRIPTION:International Jazz Supergroup BEAST MODE TRIO \nFeaturing: \nTal Cohen – Piano / Keyboards (Australia)\njjHOLLYWOOD aka Jonathan Joseph – Drums (USA)\nGola aka Armando Gola – Acoustic & Electric Bass (Cuba) \nThe world of modern jazz is about to witness a groundbreaking fusion of sounds as three virtuosos from different corners of the globe join forces to form the BEAST MODE TRIO. This international powerhouse\, comprising Grammy-winning pianist Tal Cohen from Australia\, acclaimed Grammy-winning Cuban bassist Gola aka Armando Gola\, and legendary American drummer\, and also Grammy winner\, jjHOLLYWOOD aka Jonathan Joseph\, brings together a wealth of diverse musical traditions to create an innovative and captivating jazz experience. \n  \nA Global Musical Dialogue \nThe BEAST MODE TRIO is more than just a band; it is a dynamic cultural exchange. With each member hailing from a different continent\, their music is a rich tapestry of global influences. The Trio’s sound is an eclectic blend\, incorporating the complex Mangambe and Bikutsi rhythms from Cameroon\, West Africa\, the intricate patterns of Cuban Batá drumming\, and the haunting melodies of the Middle East\, all seamlessly woven into the fabric of modern jazz. \nThe international nature of the BEAST MODE TRIO emphasizes their innovative approach to jazz\, blending global rhythms and melodies in a way that is both fresh and deeply rooted in tradition. \n  \nMeet the Artists \nTal Cohen: Hailing from Australia\, Tal Cohen is a Grammy award-winning pianist known for his extraordinary ability to blend Middle Eastern melodies with traditional jazz harmony. His unique rhythmic palette has made him one of the most sought-after pianists in the world. Cohen has performed globally with jazz legends such as Terence Blanchard\, Joe Lovano\, and Greg Osby\, earning accolades for his compelling performances at prestigious venues like the Detroit Jazz Festival and the Black Cat in San Francisco. His latest album\, “Gentle Giants\,” has garnered international acclaim\, solidifying his place as a leading figure in contemporary jazz. \nGola aka Armando Gola: A native of Havana\, Cuba\, Gola is a master of both the upright and electric bass. His career is a testament to his versatility\, having worked with icons like Chucho Valdès\, Gonzalo Rubalcaba\, Eldar Djangirov\, Arturo Sandoval and Alejandro Sanz. Trained at the Amadeo Roldan Conservatory\, Gola has toured extensively\, contributing to Grammy-winning albums and performing at major jazz festivals worldwide. His debut album as a leader\, “Gola Live Things\,” showcases his exceptional talent and his ability to blend Cuban rhythms with modern jazz sensibilities. \njjHOLLYWOOD aka Jonathan Joseph: Jonathan Joseph’s drumming prowess has earned him a place among the greats\, having toured the world with Jeff Beck and recorded critically acclaimed albums like “Jeff Beck Live in Tokyo 2014.” An American drummer with a deep understanding of African-American funk and jazz\, Joseph has also played with musical heavyweights such as Pat Metheny\, Al Jarreau\, and The Yellowjackets. His book\, “Exercises in African-American Funk\,” has become a vital resource for drummers\, emphasizing the fusion of ancient Cameroonian rhythms with contemporary funk and jazz. \nA New Chapter in Modern Jazz \nThe BEAST MODE TRIO represents the pinnacle of international collaboration in jazz. Their music is not just a fusion of styles but a synthesis of cultures\, where the traditional and the modern converge. Audiences can expect an electrifying live experience that pushes the boundaries of jazz and celebrates the rich diversity of the world’s musical heritage. \nThe Trio is embarking on a world tour\, bringing their unique sound to major jazz festivals and iconic venues across the globe. Each performance promises to be a journey through the rhythms\, melodies\, and harmonies that connect us all\, transcending borders and uniting audiences through the universal language of music. \nCheck out our food and drink menus! \n\nGET YOUR TICKETS! \nJanuary 12th:Beast Mode Trio feat. Jonathan Joseph\, Tal Cohen\, Armando Gola  \nCan’t make it\, don’t worry all of Crazy Uncle Mike’s shows are streamed straight to your living room on our Youtube & Facebook!  \n\nhttps://www.eventbrite.com/e/beast-mode-trio-feat-jonathan-joseph-tal-cohen-armando-gola-tickets-1080435263959?aff=oddtdtcreator \n  \n 
URL:https://soundmerchandise.com/event/beast-mode-trio-feat-jonathan-joseph-tal-cohen-armando-gola/
LOCATION:Crazy Uncle Mike’s\, 6450 N Federal Hwy\, Boca Raton\, FL\, 33487\, United States
CATEGORIES:Upcoming Events
ATTACH;FMTTYPE=image/png:https://soundmerchandise.com/wp-content/uploads/2024/12/Beast-Mode-Sip-Mingle-Flyer-Document.png
ORGANIZER;CN="Sound Merchandise Entertainment":MAILTO:info@soundmerchandise.com
END:VEVENT
BEGIN:VEVENT
DTSTART;TZID=UTC:20241222T210000
DTEND;TZID=UTC:20241222T230000
DTSTAMP:20260423T143002
CREATED:20241204T012854Z
LAST-MODIFIED:20241209T144541Z
UID:10000327-1734901200-1734908400@soundmerchandise.com
SUMMARY:Holiday Sip & Mingle w/ Billboard Jazz Recording Artist\, Marcus Johnson
DESCRIPTION:While pursuing his JD and MBA at Georgetown\, he independently produced and distributed his first CD (Lessons in Love)\, which sold more than 40\,000 units; a phenomenal success for an unknown independent artist’s debut release. This album helped him launch his career as a renowned jazz keyboardist/pianist\, and later\, he released his second CD (Inter Alia)\, with staggering success \nThis success caught the attention of Black Entertainment Television (BET) founder and businessman Robert L. Johnson\, who invested and partnered with Marcus to establish Marimelj Entertainment Group. Under their partnership\, MEG’s label Three Keys Music housed Studio 8121\, a full-service recording studio\, and two music publishing companies: Marimelj Music Publishing and Three Keys Music Publishing. \nAs head of Three Keys Music\, Johnson produced and released on the Three Keys Music label national jazz artists: Michael Lington\, Jaared Arosemena\, Bobby Lyle\, Nick Colionne\, R&B singer\, Alyson Williams\, neo-soul songstress\, Zahzarah; and smooth jazz Saxophonists Phillip Martin and Brian Lenair. \nTo date\, Marcus has released more than fifteen Billboard charted CDs\, and has the distinction of having his groundbreaking 2008 Billboard Top 20 Contemporary Jazz FLO (For the Love Of) Anthology\, which consisted of three distinct CDs — FLO Chill\, FLO Romance and FLO Standards – all chart Top 10 on Billboard Contemporary Jazz Charts simultaneously. \nThe release of Poetically Justified (2009) and This is How I Rock (2011)\, which were Top 20 Contemporary Jazz CDs\, solidified Marcus Johnson as the heir apparent to the funky urban groove music style and sound made famous by legendary jazz greats\, George Duke and Herbie Hancock. \nBuy your tickets and reserve your table today. \nTWO AMAZING SHOWS! 6pm and 9pm! \nGET TICKETS HERE! \n  \n 
URL:https://soundmerchandise.com/event/holiday-sip-mingle-w-billboard-jazz-recording-artist-marcus-johnson-2/
LOCATION:Crazy Uncle Mike’s\, 6450 N Federal Hwy\, Boca Raton\, FL\, 33487\, United States
ATTACH;FMTTYPE=image/png:https://soundmerchandise.com/wp-content/uploads/2024/12/Marcus-Johnson-Holiday-Sip-Mingle-2.png
ORGANIZER;CN="Sound Merchandise Entertainment":MAILTO:info@soundmerchandise.com
END:VEVENT
BEGIN:VEVENT
DTSTART;TZID=UTC:20241222T180000
DTEND;TZID=UTC:20241222T200000
DTSTAMP:20260423T143002
CREATED:20241204T115327Z
LAST-MODIFIED:20241209T143139Z
UID:10000326-1734890400-1734897600@soundmerchandise.com
SUMMARY:Holiday Sip & Mingle w/ Billboard Jazz Recording Artist\, Marcus Johnson
DESCRIPTION:While pursuing his JD and MBA at Georgetown\, he independently produced and distributed his first CD (Lessons in Love)\, which sold more than 40\,000 units; a phenomenal success for an unknown independent artist’s debut release. This album helped him launch his career as a renowned jazz keyboardist/pianist\, and later\, he released his second CD (Inter Alia)\, with staggering success \nThis success caught the attention of Black Entertainment Television (BET) founder and businessman Robert L. Johnson\, who invested and partnered with Marcus to establish Marimelj Entertainment Group. Under their partnership\, MEG’s label Three Keys Music housed Studio 8121\, a full-service recording studio\, and two music publishing companies: Marimelj Music Publishing and Three Keys Music Publishing. \nAs head of Three Keys Music\, Johnson produced and released on the Three Keys Music label national jazz artists: Michael Lington\, Jaared Arosemena\, Bobby Lyle\, Nick Colionne\, R&B singer\, Alyson Williams\, neo-soul songstress\, Zahzarah; and smooth jazz Saxophonists Phillip Martin and Brian Lenair. \nTo date\, Marcus has released more than fifteen Billboard charted CDs\, and has the distinction of having his groundbreaking 2008 Billboard Top 20 Contemporary Jazz FLO (For the Love Of) Anthology\, which consisted of three distinct CDs — FLO Chill\, FLO Romance and FLO Standards – all chart Top 10 on Billboard Contemporary Jazz Charts simultaneously. \nThe release of Poetically Justified (2009) and This is How I Rock (2011)\, which were Top 20 Contemporary Jazz CDs\, solidified Marcus Johnson as the heir apparent to the funky urban groove music style and sound made famous by legendary jazz greats\, George Duke and Herbie Hancock. \nBuy your tickets and reserve your table today. \nTWO AMAZING SHOWS! 6pm and 9pm! \nGET TICKETS HERE! \n  \n  \n 
URL:https://soundmerchandise.com/event/holiday-sip-mingle-w-billboard-jazz-recording-artist-marcus-johnson-2-2/
LOCATION:Crazy Uncle Mike’s\, 6450 N Federal Hwy\, Boca Raton\, FL\, 33487\, United States
ATTACH;FMTTYPE=image/png:https://soundmerchandise.com/wp-content/uploads/2024/12/Marcus-Johnson-Holiday-Sip-Mingle-2.png
ORGANIZER;CN="Sound Merchandise Entertainment":MAILTO:info@soundmerchandise.com
END:VEVENT
END:VCALENDAR